Package: chromPlot Version: 1.34.0 Command: /home/biocbuild/bbs-3.20-bioc/R/bin/R CMD INSTALL chromPlot StartedAt: 2025-02-03 15:35:21 -0500 (Mon, 03 Feb 2025) EndedAt: 2025-02-03 15:35:37 -0500 (Mon, 03 Feb 2025) EllapsedTime: 16.0 seconds RetCode: 0 Status: OK