Package: chromPlot Version: 1.34.0 Command: chmod a+r chromPlot -R && F:\biocbuild\bbs-3.20-bioc\R\bin\R.exe CMD build --keep-empty-dirs --no-resave-data chromPlot StartedAt: 2025-01-30 17:55:04 -0500 (Thu, 30 Jan 2025) EndedAt: 2025-01-30 17:56:05 -0500 (Thu, 30 Jan 2025) EllapsedTime: 60.4 seconds RetCode: 0 Status: OK PackageFile: chromPlot_1.34.0.tar.gz PackageFileSize: 1.355 MiB