Package: chromPlot Version: 1.34.0 Command: /home/biocbuild/R/R/bin/R CMD build --keep-empty-dirs --no-resave-data chromPlot StartedAt: 2025-02-03 22:35:38 -0000 (Mon, 03 Feb 2025) EndedAt: 2025-02-03 22:36:28 -0000 (Mon, 03 Feb 2025) EllapsedTime: 50.0 seconds RetCode: 0 Status: OK PackageFile: chromPlot_1.34.0.tar.gz PackageFileSize: 1.514 MiB