Package: chromVAR Version: 1.28.0 Command: /Library/Frameworks/R.framework/Resources/bin/R CMD INSTALL chromVAR StartedAt: 2025-01-30 16:50:58 -0500 (Thu, 30 Jan 2025) EndedAt: 2025-01-30 16:52:13 -0500 (Thu, 30 Jan 2025) EllapsedTime: 75.4 seconds RetCode: 0 Status: OK