Package: chromVAR Version: 1.28.0 Command: /Library/Frameworks/R.framework/Resources/bin/R CMD INSTALL chromVAR StartedAt: 2025-01-30 16:00:15 -0500 (Thu, 30 Jan 2025) EndedAt: 2025-01-30 16:02:39 -0500 (Thu, 30 Jan 2025) EllapsedTime: 143.9 seconds RetCode: 0 Status: OK