Package: chromVAR Version: 1.28.0 Command: rm -rf chromVAR.buildbin-libdir && mkdir chromVAR.buildbin-libdir && F:\biocbuild\bbs-3.20-bioc\R\bin\R.exe CMD INSTALL --build --library=chromVAR.buildbin-libdir chromVAR_1.28.0.tar.gz StartedAt: 2025-02-04 08:12:13 -0500 (Tue, 04 Feb 2025) EndedAt: 2025-02-04 08:14:04 -0500 (Tue, 04 Feb 2025) EllapsedTime: 110.6 seconds RetCode: 0 Status: OK PackageFile: chromVAR_1.28.0.zip PackageFileSize: 1.603 MiB