Package: chromVAR Version: 1.28.0 Command: chmod a+r chromVAR -R && F:\biocbuild\bbs-3.20-bioc\R\bin\R.exe CMD build --keep-empty-dirs --no-resave-data chromVAR StartedAt: 2025-02-03 18:08:40 -0500 (Mon, 03 Feb 2025) EndedAt: 2025-02-03 18:13:28 -0500 (Mon, 03 Feb 2025) EllapsedTime: 287.9 seconds RetCode: 0 Status: OK PackageFile: chromVAR_1.28.0.tar.gz PackageFileSize: 424.1 KiB