Package: cicero Version: 1.24.0 Command: /Library/Frameworks/R.framework/Resources/bin/R CMD check --install=check:cicero.install-out.txt --library=/Library/Frameworks/R.framework/Resources/library --no-vignettes --timings cicero_1.24.0.tar.gz StartedAt: 2025-02-04 14:47:47 -0500 (Tue, 04 Feb 2025) EndedAt: 2025-02-04 14:57:41 -0500 (Tue, 04 Feb 2025) EllapsedTime: 593.6 seconds RetCode: 0 Status: OK CheckDir: cicero.Rcheck Warnings: 0