Package: cicero Version: 1.24.0 Command: /Library/Frameworks/R.framework/Resources/bin/R CMD check --install=check:cicero.install-out.txt --library=/Library/Frameworks/R.framework/Resources/library --no-vignettes --timings cicero_1.24.0.tar.gz StartedAt: 2025-01-31 01:36:47 -0500 (Fri, 31 Jan 2025) EndedAt: 2025-01-31 01:54:03 -0500 (Fri, 31 Jan 2025) EllapsedTime: 1036.0 seconds RetCode: 0 Status: OK CheckDir: cicero.Rcheck Warnings: 0