Package: cicero Version: 1.24.0 Command: rm -rf cicero.buildbin-libdir && mkdir cicero.buildbin-libdir && F:\biocbuild\bbs-3.20-bioc\R\bin\R.exe CMD INSTALL --build --library=cicero.buildbin-libdir cicero_1.24.0.tar.gz StartedAt: 2025-02-04 08:12:18 -0500 (Tue, 04 Feb 2025) EndedAt: 2025-02-04 08:13:29 -0500 (Tue, 04 Feb 2025) EllapsedTime: 70.9 seconds RetCode: 0 Status: OK PackageFile: cicero_1.24.0.zip PackageFileSize: 1.172 MiB