Package: cicero Version: 1.24.0 Command: chmod a+r cicero -R && F:\biocbuild\bbs-3.20-bioc\R\bin\R.exe CMD build --keep-empty-dirs --no-resave-data cicero StartedAt: 2025-02-03 18:08:53 -0500 (Mon, 03 Feb 2025) EndedAt: 2025-02-03 18:11:21 -0500 (Mon, 03 Feb 2025) EllapsedTime: 147.9 seconds RetCode: 0 Status: OK PackageFile: cicero_1.24.0.tar.gz PackageFileSize: 1.14 MiB