Package: cicero Version: 1.24.0 Command: /home/biocbuild/R/R/bin/R CMD build --keep-empty-dirs --no-resave-data cicero StartedAt: 2025-01-30 22:37:06 -0000 (Thu, 30 Jan 2025) EndedAt: 2025-01-30 22:39:35 -0000 (Thu, 30 Jan 2025) EllapsedTime: 148.5 seconds RetCode: 0 Status: OK PackageFile: cicero_1.24.0.tar.gz PackageFileSize: 1.175 MiB