Package: cicero Version: 1.24.0 Command: /home/biocbuild/R/R/bin/R CMD INSTALL cicero StartedAt: 2025-01-30 20:44:02 -0000 (Thu, 30 Jan 2025) EndedAt: 2025-01-30 20:45:11 -0000 (Thu, 30 Jan 2025) EllapsedTime: 69.3 seconds RetCode: 0 Status: OK