Package: circRNAprofiler Version: 1.20.0 Command: /Library/Frameworks/R.framework/Resources/bin/R CMD INSTALL circRNAprofiler StartedAt: 2025-02-10 17:38:32 -0500 (Mon, 10 Feb 2025) EndedAt: 2025-02-10 17:39:35 -0500 (Mon, 10 Feb 2025) EllapsedTime: 62.9 seconds RetCode: 0 Status: OK