Package: circRNAprofiler Version: 1.20.0 Command: rm -rf circRNAprofiler.buildbin-libdir && mkdir circRNAprofiler.buildbin-libdir && /Users/biocbuild/BBS/utils/build-universal.sh circRNAprofiler_1.20.0.tar.gz /Library/Frameworks/R.framework/Resources/bin/R circRNAprofiler.buildbin-libdir StartedAt: 2025-02-04 12:39:53 -0500 (Tue, 04 Feb 2025) EndedAt: 2025-02-04 12:41:43 -0500 (Tue, 04 Feb 2025) EllapsedTime: 110.0 seconds RetCode: 0 Status: OK PackageFile: circRNAprofiler_1.20.0.tgz PackageFileSize: 3.552 MiB