Package: circRNAprofiler Version: 1.20.0 Command: /Library/Frameworks/R.framework/Resources/bin/R CMD INSTALL circRNAprofiler StartedAt: 2025-02-10 16:21:31 -0500 (Mon, 10 Feb 2025) EndedAt: 2025-02-10 16:23:18 -0500 (Mon, 10 Feb 2025) EllapsedTime: 107.0 seconds RetCode: 0 Status: OK