Package: circRNAprofiler Version: 1.20.0 Command: /home/biocbuild/bbs-3.20-bioc/R/bin/R CMD check --install=check:circRNAprofiler.install-out.txt --library=/home/biocbuild/bbs-3.20-bioc/R/site-library --timings circRNAprofiler_1.20.0.tar.gz StartedAt: 2025-02-10 20:51:34 -0500 (Mon, 10 Feb 2025) EndedAt: 2025-02-10 21:01:37 -0500 (Mon, 10 Feb 2025) EllapsedTime: 602.6 seconds RetCode: 0 Status: OK CheckDir: circRNAprofiler.Rcheck Warnings: 0