Package: circRNAprofiler Version: 1.20.0 Command: chmod a+r circRNAprofiler -R && F:\biocbuild\bbs-3.20-bioc\R\bin\R.exe CMD build --keep-empty-dirs --no-resave-data circRNAprofiler StartedAt: 2025-02-10 18:03:38 -0500 (Mon, 10 Feb 2025) EndedAt: 2025-02-10 18:06:21 -0500 (Mon, 10 Feb 2025) EllapsedTime: 162.9 seconds RetCode: 0 Status: OK PackageFile: circRNAprofiler_1.20.0.tar.gz PackageFileSize: 3.491 MiB