Package: circRNAprofiler Version: 1.20.0 Command: F:\biocbuild\bbs-3.20-bioc\R\bin\R.exe CMD INSTALL circRNAprofiler StartedAt: 2025-02-10 16:49:20 -0500 (Mon, 10 Feb 2025) EndedAt: 2025-02-10 16:51:28 -0500 (Mon, 10 Feb 2025) EllapsedTime: 128.2 seconds RetCode: 0 Status: OK