Package: cleanUpdTSeq Version: 1.44.0 Command: /Library/Frameworks/R.framework/Resources/bin/R CMD build --keep-empty-dirs --no-resave-data cleanUpdTSeq StartedAt: 2025-01-30 20:56:58 -0500 (Thu, 30 Jan 2025) EndedAt: 2025-01-30 20:58:51 -0500 (Thu, 30 Jan 2025) EllapsedTime: 113.1 seconds RetCode: 0 Status: OK PackageFile: cleanUpdTSeq_1.44.0.tar.gz PackageFileSize: 4.008 MiB