Package: cleanUpdTSeq Version: 1.44.0 Command: /Library/Frameworks/R.framework/Resources/bin/R CMD INSTALL cleanUpdTSeq StartedAt: 2025-01-30 16:12:13 -0500 (Thu, 30 Jan 2025) EndedAt: 2025-01-30 16:13:39 -0500 (Thu, 30 Jan 2025) EllapsedTime: 85.9 seconds RetCode: 0 Status: OK