Package: cleanUpdTSeq Version: 1.44.0 Command: /Library/Frameworks/R.framework/Resources/bin/R CMD check --install=check:cleanUpdTSeq.install-out.txt --library=/Library/Frameworks/R.framework/Resources/library --no-vignettes --timings cleanUpdTSeq_1.44.0.tar.gz StartedAt: 2025-01-31 01:40:02 -0500 (Fri, 31 Jan 2025) EndedAt: 2025-01-31 01:49:56 -0500 (Fri, 31 Jan 2025) EllapsedTime: 593.5 seconds RetCode: 0 Status: OK CheckDir: cleanUpdTSeq.Rcheck Warnings: 0