Package: cleanUpdTSeq Version: 1.44.0 Command: /home/biocbuild/bbs-3.20-bioc/R/bin/R CMD build --keep-empty-dirs --no-resave-data --md5 cleanUpdTSeq StartedAt: 2025-01-30 16:41:41 -0500 (Thu, 30 Jan 2025) EndedAt: 2025-01-30 16:43:06 -0500 (Thu, 30 Jan 2025) EllapsedTime: 85.1 seconds RetCode: 0 Status: OK PackageFile: cleanUpdTSeq_1.44.0.tar.gz PackageFileSize: 4.009 MiB