Package: cleanUpdTSeq Version: 1.44.0 Command: F:\biocbuild\bbs-3.20-bioc\R\bin\R.exe CMD check --no-multiarch --install=check:cleanUpdTSeq.install-out.txt --library=F:\biocbuild\bbs-3.20-bioc\R\library --no-vignettes --timings cleanUpdTSeq_1.44.0.tar.gz StartedAt: 2025-01-31 00:32:42 -0500 (Fri, 31 Jan 2025) EndedAt: 2025-01-31 00:38:01 -0500 (Fri, 31 Jan 2025) EllapsedTime: 319.5 seconds RetCode: 0 Status: OK CheckDir: cleanUpdTSeq.Rcheck Warnings: 0