Package: cleaver Version: 1.44.0 Command: /Library/Frameworks/R.framework/Resources/bin/R CMD check --install=check:cleaver.install-out.txt --library=/Library/Frameworks/R.framework/Resources/library --no-vignettes --timings cleaver_1.44.0.tar.gz StartedAt: 2025-02-11 01:12:36 -0500 (Tue, 11 Feb 2025) EndedAt: 2025-02-11 01:15:21 -0500 (Tue, 11 Feb 2025) EllapsedTime: 164.9 seconds RetCode: 0 Status: OK CheckDir: cleaver.Rcheck Warnings: 0