Package: cleaver Version: 1.44.0 Command: /home/biocbuild/bbs-3.20-bioc/R/bin/R CMD check --install=check:cleaver.install-out.txt --library=/home/biocbuild/bbs-3.20-bioc/R/site-library --timings cleaver_1.44.0.tar.gz StartedAt: 2025-02-10 20:53:24 -0500 (Mon, 10 Feb 2025) EndedAt: 2025-02-10 20:54:39 -0500 (Mon, 10 Feb 2025) EllapsedTime: 75.0 seconds RetCode: 0 Status: OK CheckDir: cleaver.Rcheck Warnings: 0