Package: clevRvis Version: 1.6.0 Command: /home/biocbuild/bbs-3.20-bioc/R/bin/R CMD build --keep-empty-dirs --no-resave-data --md5 clevRvis StartedAt: 2025-02-10 16:44:20 -0500 (Mon, 10 Feb 2025) EndedAt: 2025-02-10 16:44:41 -0500 (Mon, 10 Feb 2025) EllapsedTime: 21.0 seconds RetCode: 0 Status: OK PackageFile: clevRvis_1.6.0.tar.gz PackageFileSize: 2.171 MiB