Package: clevRvis Version: 1.6.0 Command: F:\biocbuild\bbs-3.20-bioc\R\bin\R.exe CMD INSTALL clevRvis StartedAt: 2025-02-10 16:27:06 -0500 (Mon, 10 Feb 2025) EndedAt: 2025-02-10 16:27:42 -0500 (Mon, 10 Feb 2025) EllapsedTime: 36.2 seconds RetCode: 0 Status: OK