Package: clevRvis Version: 1.6.0 Command: /home/biocbuild/R/R/bin/R CMD check --install=check:clevRvis.install-out.txt --library=/home/biocbuild/R/R/site-library --no-vignettes --timings clevRvis_1.6.0.tar.gz StartedAt: 2025-02-04 05:39:36 -0000 (Tue, 04 Feb 2025) EndedAt: 2025-02-04 05:40:44 -0000 (Tue, 04 Feb 2025) EllapsedTime: 68.0 seconds RetCode: 0 Status: OK CheckDir: clevRvis.Rcheck Warnings: 0