Package: cliProfiler Version: 1.12.0 Command: /Library/Frameworks/R.framework/Resources/bin/R CMD build --keep-empty-dirs --no-resave-data cliProfiler StartedAt: 2025-01-30 20:58:49 -0500 (Thu, 30 Jan 2025) EndedAt: 2025-01-30 21:00:14 -0500 (Thu, 30 Jan 2025) EllapsedTime: 84.9 seconds RetCode: 0 Status: OK PackageFile: cliProfiler_1.12.0.tar.gz PackageFileSize: 1.282 MiB