Package: cliProfiler Version: 1.12.0 Command: /Library/Frameworks/R.framework/Resources/bin/R CMD INSTALL cliProfiler StartedAt: 2025-01-30 15:38:52 -0500 (Thu, 30 Jan 2025) EndedAt: 2025-01-30 15:40:05 -0500 (Thu, 30 Jan 2025) EllapsedTime: 73.7 seconds RetCode: 0 Status: OK