Package: cliProfiler Version: 1.12.0 Command: /home/biocbuild/R/R/bin/R CMD build --keep-empty-dirs --no-resave-data cliProfiler StartedAt: 2025-01-30 22:40:06 -0000 (Thu, 30 Jan 2025) EndedAt: 2025-01-30 22:41:41 -0000 (Thu, 30 Jan 2025) EllapsedTime: 95.1 seconds RetCode: 0 Status: OK PackageFile: cliProfiler_1.12.0.tar.gz PackageFileSize: 840.5 KiB