Package: clippda Version: 1.56.0 Command: rm -rf clippda.buildbin-libdir && mkdir clippda.buildbin-libdir && /Users/biocbuild/BBS/utils/build-universal.sh clippda_1.56.0.tar.gz /Library/Frameworks/R.framework/Resources/bin/R clippda.buildbin-libdir StartedAt: 2025-02-05 15:15:42 -0500 (Wed, 05 Feb 2025) EndedAt: 2025-02-05 15:15:52 -0500 (Wed, 05 Feb 2025) EllapsedTime: 10.1 seconds RetCode: 0 Status: OK PackageFile: clippda_1.56.0.tgz PackageFileSize: 1.74 MiB