Package: clippda Version: 1.56.0 Command: rm -rf clippda.buildbin-libdir && mkdir clippda.buildbin-libdir && /Users/biocbuild/BBS/utils/build-universal.sh clippda_1.56.0.tar.gz /Library/Frameworks/R.framework/Resources/bin/R clippda.buildbin-libdir StartedAt: 2025-02-04 12:40:25 -0500 (Tue, 04 Feb 2025) EndedAt: 2025-02-04 12:40:44 -0500 (Tue, 04 Feb 2025) EllapsedTime: 18.7 seconds RetCode: 0 Status: OK PackageFile: clippda_1.56.0.tgz PackageFileSize: 1.744 MiB