Package: clippda Version: 1.56.0 Command: /home/biocbuild/bbs-3.20-bioc/R/bin/R CMD INSTALL clippda StartedAt: 2025-01-30 15:31:32 -0500 (Thu, 30 Jan 2025) EndedAt: 2025-01-30 15:31:39 -0500 (Thu, 30 Jan 2025) EllapsedTime: 7.2 seconds RetCode: 0 Status: OK