Package: clippda Version: 1.56.0 Command: rm -rf clippda.buildbin-libdir && mkdir clippda.buildbin-libdir && F:\biocbuild\bbs-3.20-bioc\R\bin\R.exe CMD INSTALL --build --library=clippda.buildbin-libdir clippda_1.56.0.tar.gz StartedAt: 2025-02-04 08:13:00 -0500 (Tue, 04 Feb 2025) EndedAt: 2025-02-04 08:13:23 -0500 (Tue, 04 Feb 2025) EllapsedTime: 23.3 seconds RetCode: 0 Status: OK PackageFile: clippda_1.56.0.zip PackageFileSize: 1.595 MiB