Package: clippda Version: 1.56.0 Command: /home/biocbuild/R/R/bin/R CMD build --keep-empty-dirs --no-resave-data clippda StartedAt: 2025-01-30 22:39:37 -0000 (Thu, 30 Jan 2025) EndedAt: 2025-01-30 22:40:41 -0000 (Thu, 30 Jan 2025) EllapsedTime: 64.0 seconds RetCode: 0 Status: OK PackageFile: clippda_1.56.0.tar.gz PackageFileSize: 1.485 MiB