Package: clippda Version: 1.56.0 Command: /home/biocbuild/R/R/bin/R CMD check --install=check:clippda.install-out.txt --library=/home/biocbuild/R/R/site-library --no-vignettes --timings clippda_1.56.0.tar.gz StartedAt: 2025-01-31 04:56:06 -0000 (Fri, 31 Jan 2025) EndedAt: 2025-01-31 04:58:54 -0000 (Fri, 31 Jan 2025) EllapsedTime: 168.1 seconds RetCode: 0 Status: WARNINGS CheckDir: clippda.Rcheck Warnings: 1