Package: clippda Version: 1.56.0 Command: /home/biocbuild/R/R/bin/R CMD INSTALL clippda StartedAt: 2025-01-30 20:39:16 -0000 (Thu, 30 Jan 2025) EndedAt: 2025-01-30 20:39:24 -0000 (Thu, 30 Jan 2025) EllapsedTime: 8.1 seconds RetCode: 0 Status: OK