Package: cliqueMS Version: 1.20.0 Command: rm -rf cliqueMS.buildbin-libdir && mkdir cliqueMS.buildbin-libdir && /Users/biocbuild/BBS/utils/build-universal.sh cliqueMS_1.20.0.tar.gz /Library/Frameworks/R.framework/Resources/bin/R cliqueMS.buildbin-libdir StartedAt: 2025-02-11 12:54:34 -0500 (Tue, 11 Feb 2025) EndedAt: 2025-02-11 12:56:59 -0500 (Tue, 11 Feb 2025) EllapsedTime: 145.0 seconds RetCode: 0 Status: OK PackageFile: cliqueMS_1.20.0.tgz PackageFileSize: 1.045 MiB