Package: cliqueMS Version: 1.20.0 Command: /Library/Frameworks/R.framework/Resources/bin/R CMD build --keep-empty-dirs --no-resave-data cliqueMS StartedAt: 2025-02-10 17:49:12 -0500 (Mon, 10 Feb 2025) EndedAt: 2025-02-10 17:52:49 -0500 (Mon, 10 Feb 2025) EllapsedTime: 216.9 seconds RetCode: 0 Status: OK PackageFile: cliqueMS_1.20.0.tar.gz PackageFileSize: 555.8 KiB