Package: cliqueMS Version: 1.20.0 Command: /Library/Frameworks/R.framework/Resources/bin/R CMD INSTALL cliqueMS StartedAt: 2025-02-10 16:10:49 -0500 (Mon, 10 Feb 2025) EndedAt: 2025-02-10 16:13:10 -0500 (Mon, 10 Feb 2025) EllapsedTime: 141.0 seconds RetCode: 0 Status: OK