Package: cliqueMS Version: 1.20.0 Command: chmod a+r cliqueMS -R && F:\biocbuild\bbs-3.20-bioc\R\bin\R.exe CMD build --keep-empty-dirs --no-resave-data cliqueMS StartedAt: 2025-02-03 18:11:22 -0500 (Mon, 03 Feb 2025) EndedAt: 2025-02-03 18:13:34 -0500 (Mon, 03 Feb 2025) EllapsedTime: 132.1 seconds RetCode: 0 Status: OK PackageFile: cliqueMS_1.20.0.tar.gz PackageFileSize: 555.9 KiB