Package: cliqueMS Version: 1.20.0 Command: /home/biocbuild/R/R/bin/R CMD build --keep-empty-dirs --no-resave-data cliqueMS StartedAt: 2025-02-10 22:29:13 -0000 (Mon, 10 Feb 2025) EndedAt: 2025-02-10 22:31:09 -0000 (Mon, 10 Feb 2025) EllapsedTime: 116.1 seconds RetCode: 0 Status: OK PackageFile: cliqueMS_1.20.0.tar.gz PackageFileSize: 557.3 KiB