Package: cliqueMS Version: 1.20.0 Command: /home/biocbuild/R/R/bin/R CMD INSTALL cliqueMS StartedAt: 2025-02-10 20:49:55 -0000 (Mon, 10 Feb 2025) EndedAt: 2025-02-10 20:51:28 -0000 (Mon, 10 Feb 2025) EllapsedTime: 93.0 seconds RetCode: 0 Status: OK