Package: clstutils Version: 1.54.0 Command: /Library/Frameworks/R.framework/Resources/bin/R CMD build --keep-empty-dirs --no-resave-data clstutils StartedAt: 2025-02-03 20:52:28 -0500 (Mon, 03 Feb 2025) EndedAt: 2025-02-03 20:52:56 -0500 (Mon, 03 Feb 2025) EllapsedTime: 28.1 seconds RetCode: 0 Status: OK PackageFile: clstutils_1.54.0.tar.gz PackageFileSize: 2.694 MiB