Package: clstutils Version: 1.54.0 Command: /Library/Frameworks/R.framework/Resources/bin/R CMD INSTALL clstutils StartedAt: 2025-02-03 16:13:21 -0500 (Mon, 03 Feb 2025) EndedAt: 2025-02-03 16:13:25 -0500 (Mon, 03 Feb 2025) EllapsedTime: 4.9 seconds RetCode: 0 Status: OK