Package: clstutils Version: 1.54.0 Command: /home/biocbuild/bbs-3.20-bioc/R/bin/R CMD INSTALL clstutils StartedAt: 2025-02-03 15:27:13 -0500 (Mon, 03 Feb 2025) EndedAt: 2025-02-03 15:27:17 -0500 (Mon, 03 Feb 2025) EllapsedTime: 4.3 seconds RetCode: 0 Status: OK