Package: clstutils Version: 1.54.0 Command: chmod a+r clstutils -R && F:\biocbuild\bbs-3.20-bioc\R\bin\R.exe CMD build --keep-empty-dirs --no-resave-data clstutils StartedAt: 2025-02-03 18:11:57 -0500 (Mon, 03 Feb 2025) EndedAt: 2025-02-03 18:12:29 -0500 (Mon, 03 Feb 2025) EllapsedTime: 31.8 seconds RetCode: 0 Status: OK PackageFile: clstutils_1.54.0.tar.gz PackageFileSize: 2.454 MiB