Package: clstutils Version: 1.54.0 Command: /home/biocbuild/R/R/bin/R CMD build --keep-empty-dirs --no-resave-data clstutils StartedAt: 2025-02-03 22:39:44 -0000 (Mon, 03 Feb 2025) EndedAt: 2025-02-03 22:40:01 -0000 (Mon, 03 Feb 2025) EllapsedTime: 17.0 seconds RetCode: 0 Status: OK PackageFile: clstutils_1.54.0.tar.gz PackageFileSize: 2.681 MiB